BEGIN:VCALENDAR
VERSION:2.0
PRODID:-//La Cantine ô Moines - ECPv6.8.3//NONSGML v1.0//EN
CALSCALE:GREGORIAN
METHOD:PUBLISH
X-ORIGINAL-URL:https://www.lacantineomoines.com
X-WR-CALDESC:Évènements pour La Cantine ô Moines
REFRESH-INTERVAL;VALUE=DURATION:PT1H
X-Robots-Tag:noindex
X-PUBLISHED-TTL:PT1H
BEGIN:VTIMEZONE
TZID:Europe/Paris
BEGIN:DAYLIGHT
TZOFFSETFROM:+0100
TZOFFSETTO:+0200
TZNAME:CEST
DTSTART:20190331T010000
END:DAYLIGHT
BEGIN:STANDARD
TZOFFSETFROM:+0200
TZOFFSETTO:+0100
TZNAME:CET
DTSTART:20191027T010000
END:STANDARD
BEGIN:DAYLIGHT
TZOFFSETFROM:+0100
TZOFFSETTO:+0200
TZNAME:CEST
DTSTART:20200329T010000
END:DAYLIGHT
BEGIN:STANDARD
TZOFFSETFROM:+0200
TZOFFSETTO:+0100
TZNAME:CET
DTSTART:20201025T010000
END:STANDARD
END:VTIMEZONE
BEGIN:VEVENT
DTSTART;TZID=Europe/Paris:20200214T190000
DTEND;TZID=Europe/Paris:20200214T220000
DTSTAMP:20260425T024333
CREATED:20200205T185816Z
LAST-MODIFIED:20200205T185816Z
UID:1024-1581706800-1581717600@www.lacantineomoines.com
SUMMARY:St Valentin
DESCRIPTION:RÉSERVATIONS UNIQUEMENT PAR TÉLÉPHONE. Merci
URL:https://www.lacantineomoines.com/event/st-valentin/
ORGANIZER;CN="La Cantine %C3%B4 Moines":MAILTO:lacantineomoines@gmail.com
END:VEVENT
BEGIN:VEVENT
DTSTART;TZID=Europe/Paris:20191231T200000
DTEND;TZID=Europe/Paris:20200101T010000
DTSTAMP:20260425T024333
CREATED:20191118T002251Z
LAST-MODIFIED:20191226T134740Z
UID:692-1577822400-1577840400@www.lacantineomoines.com
SUMMARY:Nouvel An DISCO CHIC - COMPLET !
DESCRIPTION:RESTAURANT COMPLET POUR LE 31 DÉCEMBRE
URL:https://www.lacantineomoines.com/event/nouvel-an-disco-chic/
LOCATION:La Cantine ô Moines\, 12 Quai Chaussée des Moines\, Vertou\, 44120\, France
CATEGORIES:Évènements,Soirée spéciale
ATTACH;FMTTYPE=image/jpeg:https://www.lacantineomoines.com/wp-content/uploads/2019/11/disco-ball-Cantine-o-moines-Reveillon-2020.jpg
ORGANIZER;CN="La Cantine %C3%B4 Moines":MAILTO:lacantineomoines@gmail.com
END:VEVENT
END:VCALENDAR